BEGIN:VCALENDAR
VERSION:2.0
PRODID:-//CCA - ECPv6.15.17.1//NONSGML v1.0//EN
CALSCALE:GREGORIAN
METHOD:PUBLISH
X-WR-CALNAME:CCA
X-ORIGINAL-URL:https://canpaint.com
X-WR-CALDESC:Events for CCA
REFRESH-INTERVAL;VALUE=DURATION:PT1H
X-Robots-Tag:noindex
X-PUBLISHED-TTL:PT1H
BEGIN:VTIMEZONE
TZID:America/Toronto
BEGIN:DAYLIGHT
TZOFFSETFROM:-0500
TZOFFSETTO:-0400
TZNAME:EDT
DTSTART:20240310T070000
END:DAYLIGHT
BEGIN:STANDARD
TZOFFSETFROM:-0400
TZOFFSETTO:-0500
TZNAME:EST
DTSTART:20241103T060000
END:STANDARD
BEGIN:DAYLIGHT
TZOFFSETFROM:-0500
TZOFFSETTO:-0400
TZNAME:EDT
DTSTART:20250309T070000
END:DAYLIGHT
BEGIN:STANDARD
TZOFFSETFROM:-0400
TZOFFSETTO:-0500
TZNAME:EST
DTSTART:20251102T060000
END:STANDARD
BEGIN:DAYLIGHT
TZOFFSETFROM:-0500
TZOFFSETTO:-0400
TZNAME:EDT
DTSTART:20260308T070000
END:DAYLIGHT
BEGIN:STANDARD
TZOFFSETFROM:-0400
TZOFFSETTO:-0500
TZNAME:EST
DTSTART:20261101T060000
END:STANDARD
END:VTIMEZONE
BEGIN:VEVENT
DTSTART;VALUE=DATE:20250521
DTEND;VALUE=DATE:20250524
DTSTAMP:20260420T142141
CREATED:20231204T203450Z
LAST-MODIFIED:20250516T171821Z
UID:343984-1747785600-1748044799@canpaint.com
SUMMARY:Canadian Coatings Conference
DESCRIPTION:The Canadian Coatings Conference is the leading source for tracking and addressing regulatory developments impacting the Coatings\, Adhesives\, Sealants\, and Elastomers (CASE) industry in Canada. Hosted by the Canadian Coatings Association (CCA) our mandate is to advocate for fair regulations that are evidence-based\, rooted in science\, and take into consideration impacts on industry\, the environment\, and the economy. \nThe Canadian Coatings Conference is the cornerstone event to attend with presentations from experts across North America specializing in Chemical formulation\, Research and Development\, Coatings Technology\, and Economic and Market Research. Focused on providing the latest scientific findings\, technology innovations\, and leading industry best practices in green chemistry and sustainable development those working in the CASE industry are equipped with the information needed to navigate Canada’s ever-evolving regulatory landscape. \nThe Conference is held over the course of one and a half days\, beginning on Wednesday where CCA will convene with its Board of Directors Meeting in the afternoon\, followed by a Welcome Reception for all guests in the evening. The following day begins with a breakfast taken at guests’ leisure\, with plenary sessions starting at 9:00 a.m. until 4:30 p.m. Lunch is served from noon until 1:00 p.m. The event is capped with CCA’s Annual Chair Awards Dinner where attendees enjoy a three-course table d’hôte dinner among colleagues and friends. \nCCA looks forward to welcoming all guests this year at the beautiful Marriott Halifax Harbourfront in Halifax\, NovaScotia\, where guests will be surrounded by the historic charm and the best Halifax has to offer in culinary delights. \n  \nSpecial Update: Unfortunately\, all rooms reserved for CCA Conference Attendees have been booked\, and there is no longer any availability at the Marriott Harbourfront Hotel.\nCCA recommends that all attendees explore these alternate locations: Prince George Hotel or Sutton Place Hotel\, both less than 1 km away from the Marriott. Alternatively\, there is the Lord Nelson Hotel\, which is more than 1 km away.
URL:https://canpaint.com/event/canadian-coatings-conference/
LOCATION:Marriott Halifax Harbourfront\, 1919 Upper Water St\, Halifax\, NovaScotia\, B3J 3J5\, Canada
CATEGORIES:Conference
ATTACH;FMTTYPE=image/png:https://canpaint.com/wp-content/uploads/2023/12/CCA2025.png
ORGANIZER;CN="Canadian Coatings Association":MAILTO:info@canpaint.com
END:VEVENT
END:VCALENDAR