BEGIN:VCALENDAR
VERSION:2.0
PRODID:-//CCA - ECPv6.15.17.1//NONSGML v1.0//EN
CALSCALE:GREGORIAN
METHOD:PUBLISH
X-WR-CALNAME:CCA
X-ORIGINAL-URL:https://canpaint.com
X-WR-CALDESC:Events for CCA
REFRESH-INTERVAL;VALUE=DURATION:PT1H
X-Robots-Tag:noindex
X-PUBLISHED-TTL:PT1H
BEGIN:VTIMEZONE
TZID:America/Toronto
BEGIN:DAYLIGHT
TZOFFSETFROM:-0500
TZOFFSETTO:-0400
TZNAME:EDT
DTSTART:20200308T070000
END:DAYLIGHT
BEGIN:STANDARD
TZOFFSETFROM:-0400
TZOFFSETTO:-0500
TZNAME:EST
DTSTART:20201101T060000
END:STANDARD
BEGIN:DAYLIGHT
TZOFFSETFROM:-0500
TZOFFSETTO:-0400
TZNAME:EDT
DTSTART:20210314T070000
END:DAYLIGHT
BEGIN:STANDARD
TZOFFSETFROM:-0400
TZOFFSETTO:-0500
TZNAME:EST
DTSTART:20211107T060000
END:STANDARD
BEGIN:DAYLIGHT
TZOFFSETFROM:-0500
TZOFFSETTO:-0400
TZNAME:EDT
DTSTART:20220313T070000
END:DAYLIGHT
BEGIN:STANDARD
TZOFFSETFROM:-0400
TZOFFSETTO:-0500
TZNAME:EST
DTSTART:20221106T060000
END:STANDARD
BEGIN:DAYLIGHT
TZOFFSETFROM:-0500
TZOFFSETTO:-0400
TZNAME:EDT
DTSTART:20230312T070000
END:DAYLIGHT
BEGIN:STANDARD
TZOFFSETFROM:-0400
TZOFFSETTO:-0500
TZNAME:EST
DTSTART:20231105T060000
END:STANDARD
BEGIN:DAYLIGHT
TZOFFSETFROM:-0500
TZOFFSETTO:-0400
TZNAME:EDT
DTSTART:20240310T070000
END:DAYLIGHT
BEGIN:STANDARD
TZOFFSETFROM:-0400
TZOFFSETTO:-0500
TZNAME:EST
DTSTART:20241103T060000
END:STANDARD
BEGIN:DAYLIGHT
TZOFFSETFROM:-0500
TZOFFSETTO:-0400
TZNAME:EDT
DTSTART:20250309T070000
END:DAYLIGHT
BEGIN:STANDARD
TZOFFSETFROM:-0400
TZOFFSETTO:-0500
TZNAME:EST
DTSTART:20251102T060000
END:STANDARD
END:VTIMEZONE
BEGIN:VEVENT
DTSTART;VALUE=DATE:20240306
DTEND;VALUE=DATE:20240308
DTSTAMP:20260421T074415
CREATED:20231128T204925Z
LAST-MODIFIED:20231128T204925Z
UID:342400-1709683200-1709855999@canpaint.com
SUMMARY:9th World Elastomer Summit
DESCRIPTION:
URL:https://canpaint.com/event/9th-world-elastomer-summit-2/
CATEGORIES:Summit
END:VEVENT
BEGIN:VEVENT
DTSTART;TZID=America/Toronto:20221012T080000
DTEND;TZID=America/Toronto:20221012T170000
DTSTAMP:20260421T074416
CREATED:20221012T145741Z
LAST-MODIFIED:20221012T181913Z
UID:245310-1665561600-1665594000@canpaint.com
SUMMARY:The Coatings Summit
DESCRIPTION:Senior Coatings Leaders Invited to Attend Next WCC Coatings Summit: The Global Strategy and Networking Forum for Senior Coatings Executives \nThe World Coatings Council (WCC) and Vincentz Network (VN) invite senior coatings leaders to join this year`s Coatings Summit\, which is globally acknowledged as the pre-eminent forum for the industry. The next edition is scheduled for December 5 to December 7\, 2022\, at the Mandarin Oriental Hotel\, in Miami\, Florida. Be part of the most sophisticated and globally diverse circle of coatings leaders\, be inspired by exclusive keynote addresses\, exchange views and thoughts with other industry influencers\, and get insights into strategies and considerations of internationally successful coatings companies. Further details on the program\, sponsorship opportunities and how to register can be found here. \nwww.coatings-summit.com
URL:https://canpaint.com/event/the-coatings-summit/
CATEGORIES:Conference,Summit
END:VEVENT
BEGIN:VEVENT
DTSTART;VALUE=DATE:20210720
DTEND;VALUE=DATE:20210722
DTSTAMP:20260421T074416
CREATED:20210518T141807Z
LAST-MODIFIED:20210518T141807Z
UID:96792-1626739200-1626911999@canpaint.com
SUMMARY:Virtual 2021 Environment+Energy Leader Solutions Summit
DESCRIPTION:
URL:https://canpaint.com/event/virtual-2021-environmentenergy-leader-solutions-summit/
CATEGORIES:Summit
END:VEVENT
END:VCALENDAR