BEGIN:VCALENDAR
VERSION:2.0
PRODID:-//CCA - ECPv6.15.17.1//NONSGML v1.0//EN
CALSCALE:GREGORIAN
METHOD:PUBLISH
X-ORIGINAL-URL:https://canpaint.com
X-WR-CALDESC:Events for CCA
REFRESH-INTERVAL;VALUE=DURATION:PT1H
X-Robots-Tag:noindex
X-PUBLISHED-TTL:PT1H
BEGIN:VTIMEZONE
TZID:America/Toronto
BEGIN:DAYLIGHT
TZOFFSETFROM:-0500
TZOFFSETTO:-0400
TZNAME:EDT
DTSTART:20220313T070000
END:DAYLIGHT
BEGIN:STANDARD
TZOFFSETFROM:-0400
TZOFFSETTO:-0500
TZNAME:EST
DTSTART:20221106T060000
END:STANDARD
BEGIN:DAYLIGHT
TZOFFSETFROM:-0500
TZOFFSETTO:-0400
TZNAME:EDT
DTSTART:20230312T070000
END:DAYLIGHT
BEGIN:STANDARD
TZOFFSETFROM:-0400
TZOFFSETTO:-0500
TZNAME:EST
DTSTART:20231105T060000
END:STANDARD
BEGIN:DAYLIGHT
TZOFFSETFROM:-0500
TZOFFSETTO:-0400
TZNAME:EDT
DTSTART:20240310T070000
END:DAYLIGHT
BEGIN:STANDARD
TZOFFSETFROM:-0400
TZOFFSETTO:-0500
TZNAME:EST
DTSTART:20241103T060000
END:STANDARD
BEGIN:DAYLIGHT
TZOFFSETFROM:-0500
TZOFFSETTO:-0400
TZNAME:EDT
DTSTART:20250309T070000
END:DAYLIGHT
BEGIN:STANDARD
TZOFFSETFROM:-0400
TZOFFSETTO:-0500
TZNAME:EST
DTSTART:20251102T060000
END:STANDARD
END:VTIMEZONE
BEGIN:VEVENT
DTSTART;VALUE=DATE:20230524
DTEND;VALUE=DATE:20230526
DTSTAMP:20260423T013538
CREATED:20221130T195438Z
LAST-MODIFIED:20230502T143250Z
UID:264296-1684886400-1685059199@canpaint.com
SUMMARY:CPCA 110th Annual Conference & AGM
DESCRIPTION:CANADA’S COATINGS CONFERENCE\nFOCUSED ON REGULATORY AFFAIRS\, COATINGS INNOVATION\, AND SUSTAINABLE DEVELOPMENT IN CANADA\n  \n\nCPCA’s 110th Annual Conference & AGM is our cornerstone event providing the latest developments in Canada’s Paint and Coatings Industry. Coatings leaders\, regulatory experts\, and chemical engineers provide attendees with insights on industry advances in R&D and technology\, current business challenges\, and the wider economic outlook ahead. \nAs one of Canada’s oldest industry associations\, our mandate is to advocate for fair regulations that is evidence-based\, rooted in science\, and takes into consideration impacts to industry\, the environment\, and the economy.
URL:https://canpaint.com/event/cpca-110th-annual-conference-agm/
LOCATION:Vintage Hotel Queen’s Landing Niagara-on-the-Lake\, 155 Byron St\, Niagara-on-the-Lake\, ON L0S 1J0\, Niagara\, Ontario\, L0S 1J0\, Canada
CATEGORIES:CCA Events,Conference
ATTACH;FMTTYPE=image/png:https://canpaint.com/wp-content/uploads/2022/11/Annual-conference-01.png
ORGANIZER;CN="Canadian Coatings Association":MAILTO:info@canpaint.com
END:VEVENT
BEGIN:VEVENT
DTSTART;VALUE=DATE:20230906
DTEND;VALUE=DATE:20230909
DTSTAMP:20260423T013538
CREATED:20221213T200853Z
LAST-MODIFIED:20221213T200853Z
UID:270945-1693958400-1694217599@canpaint.com
SUMMARY:Coatings Trends & Technologies  Summit 2023
DESCRIPTION:
URL:https://canpaint.com/event/coatings-trends-technologies-summit-2023/
CATEGORIES:Conference,Industry,Trade Show
END:VEVENT
BEGIN:VEVENT
DTSTART;VALUE=DATE:20231015
DTEND;VALUE=DATE:20231019
DTSTAMP:20260423T013538
CREATED:20230925T165100Z
LAST-MODIFIED:20230925T165100Z
UID:319441-1697328000-1697673599@canpaint.com
SUMMARY:The 36th Biennal Western Coatings Symposium and Show
DESCRIPTION:
URL:https://canpaint.com/event/the-36th-biennal-western-coatings-symposium-and-show/
CATEGORIES:Conference
END:VEVENT
BEGIN:VEVENT
DTSTART;VALUE=DATE:20231018
DTEND;VALUE=DATE:20231019
DTSTAMP:20260423T013538
CREATED:20221213T200928Z
LAST-MODIFIED:20221213T200928Z
UID:270946-1697587200-1697673599@canpaint.com
SUMMARY:Pacific Coatings Show Conference 2023
DESCRIPTION:
URL:https://canpaint.com/event/pacific-coatings-show-conference-2023/
CATEGORIES:Conference,Industry,Trade Show
END:VEVENT
BEGIN:VEVENT
DTSTART;VALUE=DATE:20231107
DTEND;VALUE=DATE:20231108
DTSTAMP:20260423T013538
CREATED:20230925T165238Z
LAST-MODIFIED:20230925T165238Z
UID:319444-1699315200-1699401599@canpaint.com
SUMMARY:Wood Coatings: From Formulations to Applications
DESCRIPTION:
URL:https://canpaint.com/event/wood-coatings-from-formulations-to-applications/
CATEGORIES:Conference
END:VEVENT
BEGIN:VEVENT
DTSTART;VALUE=DATE:20231107
DTEND;VALUE=DATE:20231110
DTSTAMP:20260423T013538
CREATED:20230925T165307Z
LAST-MODIFIED:20230925T165307Z
UID:319445-1699315200-1699574399@canpaint.com
SUMMARY:2023 RCMS/RC14001 Workshop
DESCRIPTION:
URL:https://canpaint.com/event/2023-rcms-rc14001-workshop/
CATEGORIES:Conference
END:VEVENT
BEGIN:VEVENT
DTSTART;VALUE=DATE:20231121
DTEND;VALUE=DATE:20231122
DTSTAMP:20260423T013538
CREATED:20221213T200959Z
LAST-MODIFIED:20221213T200959Z
UID:270947-1700524800-1700611199@canpaint.com
SUMMARY:ABRAFATI Exhibition 2023
DESCRIPTION:
URL:https://canpaint.com/event/abrafati-exhibition-2023/
CATEGORIES:Conference,Industry,Trade Show
END:VEVENT
BEGIN:VEVENT
DTSTART;VALUE=DATE:20240204
DTEND;VALUE=DATE:20240210
DTSTAMP:20260423T013538
CREATED:20230925T165429Z
LAST-MODIFIED:20230925T165429Z
UID:319447-1707004800-1707523199@canpaint.com
SUMMARY:International Waterbone High Solids and Powder Coatings Symposium
DESCRIPTION:
URL:https://canpaint.com/event/international-waterbone-high-solids-and-powder-coatings-symposium/
CATEGORIES:Conference
END:VEVENT
BEGIN:VEVENT
DTSTART;VALUE=DATE:20240206
DTEND;VALUE=DATE:20240209
DTSTAMP:20260423T013538
CREATED:20231218T151740Z
LAST-MODIFIED:20231218T151740Z
UID:347809-1707177600-1707436799@canpaint.com
SUMMARY:Advancing Manufacturing Excellence
DESCRIPTION:
URL:https://canpaint.com/event/advancing-manufacturing-excellence/
CATEGORIES:Conference
END:VEVENT
BEGIN:VEVENT
DTSTART;VALUE=DATE:20240222
DTEND;VALUE=DATE:20240225
DTSTAMP:20260423T013538
CREATED:20231128T204733Z
LAST-MODIFIED:20231128T204733Z
UID:342398-1708560000-1708819199@canpaint.com
SUMMARY:PaintIndia
DESCRIPTION:
URL:https://canpaint.com/event/paintindia-2/
CATEGORIES:Conference
END:VEVENT
BEGIN:VEVENT
DTSTART;VALUE=DATE:20240303
DTEND;VALUE=DATE:20240307
DTSTAMP:20260423T013538
CREATED:20231128T204801Z
LAST-MODIFIED:20231128T204801Z
UID:342399-1709424000-1709769599@canpaint.com
SUMMARY:AMPP Annual Conference & Expo
DESCRIPTION:
URL:https://canpaint.com/event/ampp-annual-conference-expo/
CATEGORIES:Conference
END:VEVENT
BEGIN:VEVENT
DTSTART;VALUE=DATE:20240310
DTEND;VALUE=DATE:20240315
DTSTAMP:20260423T013538
CREATED:20231128T204958Z
LAST-MODIFIED:20231128T204958Z
UID:342401-1710028800-1710460799@canpaint.com
SUMMARY:Society of Toxicology – 2024 Annual Meeting and Toxexpo
DESCRIPTION:
URL:https://canpaint.com/event/society-of-toxicology-2024-annual-meeting-and-toxexpo/
CATEGORIES:Conference
END:VEVENT
BEGIN:VEVENT
DTSTART;VALUE=DATE:20240326
DTEND;VALUE=DATE:20240329
DTSTAMP:20260423T013538
CREATED:20231218T151812Z
LAST-MODIFIED:20231218T151812Z
UID:347810-1711411200-1711670399@canpaint.com
SUMMARY:Eurocoat
DESCRIPTION:
URL:https://canpaint.com/event/eurocoat/
CATEGORIES:Conference
END:VEVENT
BEGIN:VEVENT
DTSTART;VALUE=DATE:20240409
DTEND;VALUE=DATE:20240411
DTSTAMP:20260423T013538
CREATED:20231128T205025Z
LAST-MODIFIED:20231128T205025Z
UID:342402-1712620800-1712793599@canpaint.com
SUMMARY:EC Conference Functional Coatings & Nanotechnology
DESCRIPTION:
URL:https://canpaint.com/event/ec-conference-functional-coatings-nanotechnology/
CATEGORIES:Conference
END:VEVENT
BEGIN:VEVENT
DTSTART;VALUE=DATE:20240416
DTEND;VALUE=DATE:20240419
DTSTAMP:20260423T013538
CREATED:20231218T151844Z
LAST-MODIFIED:20231218T151844Z
UID:347811-1713225600-1713484799@canpaint.com
SUMMARY:Middle East Coatings Show
DESCRIPTION:
URL:https://canpaint.com/event/middle-east-coatings-show-3/
CATEGORIES:Conference
END:VEVENT
BEGIN:VEVENT
DTSTART;VALUE=DATE:20240418
DTEND;VALUE=DATE:20240419
DTSTAMP:20260423T013538
CREATED:20231128T205052Z
LAST-MODIFIED:20231128T205052Z
UID:342403-1713398400-1713484799@canpaint.com
SUMMARY:48th FOCUS Conference
DESCRIPTION:
URL:https://canpaint.com/event/48th-focus-conference/
CATEGORIES:Conference
END:VEVENT
BEGIN:VEVENT
DTSTART;VALUE=DATE:20240423
DTEND;VALUE=DATE:20240425
DTSTAMP:20260423T013538
CREATED:20231218T151912Z
LAST-MODIFIED:20231218T151912Z
UID:347812-1713830400-1714003199@canpaint.com
SUMMARY:9th Annual Digitalization & AI in Oil & Gas Canada Conference
DESCRIPTION:
URL:https://canpaint.com/event/9th-annual-digitalization-ai-in-oil-gas-canada-conference/
CATEGORIES:Conference
END:VEVENT
BEGIN:VEVENT
DTSTART;VALUE=DATE:20240509
DTEND;VALUE=DATE:20240511
DTSTAMP:20260423T013538
CREATED:20231218T151938Z
LAST-MODIFIED:20231218T151938Z
UID:347813-1715212800-1715385599@canpaint.com
SUMMARY:ICIS World Surfactant Conference 2024
DESCRIPTION:
URL:https://canpaint.com/event/icis-world-surfactant-conference-2024/
CATEGORIES:Conference
END:VEVENT
BEGIN:VEVENT
DTSTART;VALUE=DATE:20240520
DTEND;VALUE=DATE:20240523
DTSTAMP:20260423T013538
CREATED:20231218T152012Z
LAST-MODIFIED:20231218T152100Z
UID:347814-1716163200-1716422399@canpaint.com
SUMMARY:RadTech 2024 UV+EB Technology Conference & Exposition
DESCRIPTION:
URL:https://canpaint.com/event/radtech-2024-uveb-technology-conference-exposition/
CATEGORIES:Conference
END:VEVENT
BEGIN:VEVENT
DTSTART;VALUE=DATE:20240604
DTEND;VALUE=DATE:20240606
DTSTAMP:20260423T013538
CREATED:20231218T152124Z
LAST-MODIFIED:20231218T152124Z
UID:347815-1717459200-1717631999@canpaint.com
SUMMARY:Verdantix EHS Summit Europe
DESCRIPTION:
URL:https://canpaint.com/event/verdantix-ehs-summit-europe/
CATEGORIES:Conference
END:VEVENT
BEGIN:VEVENT
DTSTART;VALUE=DATE:20240605
DTEND;VALUE=DATE:20240607
DTSTAMP:20260423T013538
CREATED:20231218T152149Z
LAST-MODIFIED:20231218T152149Z
UID:347816-1717545600-1717718399@canpaint.com
SUMMARY:Biobased Coatings Europe 2024
DESCRIPTION:
URL:https://canpaint.com/event/biobased-coatings-europe-2024/
CATEGORIES:Conference
END:VEVENT
BEGIN:VEVENT
DTSTART;VALUE=DATE:20240615
DTEND;VALUE=DATE:20240617
DTSTAMP:20260423T013538
CREATED:20240830T175223Z
LAST-MODIFIED:20240830T175223Z
UID:608409-1718409600-1718582399@canpaint.com
SUMMARY:International Conference on Chemical Process Safety and Toxicology ICCPST
DESCRIPTION:
URL:https://canpaint.com/event/international-conference-on-chemical-process-safety-and-toxicology-iccpst/
CATEGORIES:Conference
END:VEVENT
BEGIN:VEVENT
DTSTART;VALUE=DATE:20240624
DTEND;VALUE=DATE:20240628
DTSTAMP:20260423T013538
CREATED:20231218T152214Z
LAST-MODIFIED:20231218T152214Z
UID:347817-1719187200-1719532799@canpaint.com
SUMMARY:COSI Coatings Science International Conference
DESCRIPTION:
URL:https://canpaint.com/event/cosi-coatings-science-international-conference/
CATEGORIES:Conference
END:VEVENT
BEGIN:VEVENT
DTSTART;TZID=America/Toronto:20240830T080000
DTEND;TZID=America/Toronto:20240830T170000
DTSTAMP:20260423T013538
CREATED:20240830T175130Z
LAST-MODIFIED:20240830T175130Z
UID:608408-1725004800-1725037200@canpaint.com
SUMMARY:New Great Lakes Coatings Conference Launched in 2025
DESCRIPTION:
URL:https://canpaint.com/event/new-great-lakes-coatings-conference-launched-in-2025/
CATEGORIES:Conference
END:VEVENT
BEGIN:VEVENT
DTSTART;VALUE=DATE:20240909
DTEND;VALUE=DATE:20240912
DTSTAMP:20260423T013538
CREATED:20240830T174520Z
LAST-MODIFIED:20240830T174520Z
UID:608399-1725840000-1726099199@canpaint.com
SUMMARY:Women in Chemicals Annual Conference 2024
DESCRIPTION:
URL:https://canpaint.com/event/women-in-chemicals-annual-conference-2024/
CATEGORIES:Conference
END:VEVENT
BEGIN:VEVENT
DTSTART;VALUE=DATE:20240909
DTEND;VALUE=DATE:20240913
DTSTAMP:20260423T013538
CREATED:20240830T174602Z
LAST-MODIFIED:20240830T174602Z
UID:608400-1725840000-1726185599@canpaint.com
SUMMARY:The Composites and Advanced Materials Expo 2024
DESCRIPTION:
URL:https://canpaint.com/event/the-composites-and-advanced-materials-expo-2024/
CATEGORIES:Conference
END:VEVENT
BEGIN:VEVENT
DTSTART;VALUE=DATE:20240919
DTEND;VALUE=DATE:20240920
DTSTAMP:20260423T013538
CREATED:20231218T152241Z
LAST-MODIFIED:20231218T152241Z
UID:347818-1726704000-1726790399@canpaint.com
SUMMARY:Virtual EC Conference Biocides and Alternatives 2024
DESCRIPTION:
URL:https://canpaint.com/event/virtual-ec-conference-biocides-and-alternatives-2024/
CATEGORIES:Conference
END:VEVENT
BEGIN:VEVENT
DTSTART;VALUE=DATE:20240926
DTEND;VALUE=DATE:20240928
DTSTAMP:20260423T013538
CREATED:20240830T174638Z
LAST-MODIFIED:20240830T174638Z
UID:608401-1727308800-1727481599@canpaint.com
SUMMARY:11th Biennial Wood Coatings & Substrates (Wood C&S) Conference
DESCRIPTION:
URL:https://canpaint.com/event/11th-biennial-wood-coatings-substrates-wood-cs-conference/
CATEGORIES:Conference
END:VEVENT
BEGIN:VEVENT
DTSTART;VALUE=DATE:20241030
DTEND;VALUE=DATE:20241102
DTSTAMP:20260423T013538
CREATED:20240830T174742Z
LAST-MODIFIED:20240830T174742Z
UID:608403-1730246400-1730505599@canpaint.com
SUMMARY:METALCON 2024
DESCRIPTION:
URL:https://canpaint.com/event/metalcon-2024/
CATEGORIES:Conference
END:VEVENT
BEGIN:VEVENT
DTSTART;VALUE=DATE:20241114
DTEND;VALUE=DATE:20241116
DTSTAMP:20260423T013538
CREATED:20240830T174831Z
LAST-MODIFIED:20240830T174831Z
UID:608404-1731542400-1731715199@canpaint.com
SUMMARY:XVII. CONFERENCE ON PIGMENTS AND BINDERS
DESCRIPTION:
URL:https://canpaint.com/event/xvii-conference-on-pigments-and-binders/
CATEGORIES:Conference
END:VEVENT
END:VCALENDAR