BEGIN:VCALENDAR
VERSION:2.0
PRODID:-//CCA - ECPv6.15.17.1//NONSGML v1.0//EN
CALSCALE:GREGORIAN
METHOD:PUBLISH
X-ORIGINAL-URL:https://canpaint.com
X-WR-CALDESC:Events for CCA
REFRESH-INTERVAL;VALUE=DURATION:PT1H
X-Robots-Tag:noindex
X-PUBLISHED-TTL:PT1H
BEGIN:VTIMEZONE
TZID:America/Toronto
BEGIN:DAYLIGHT
TZOFFSETFROM:-0500
TZOFFSETTO:-0400
TZNAME:EDT
DTSTART:20200308T070000
END:DAYLIGHT
BEGIN:STANDARD
TZOFFSETFROM:-0400
TZOFFSETTO:-0500
TZNAME:EST
DTSTART:20201101T060000
END:STANDARD
BEGIN:DAYLIGHT
TZOFFSETFROM:-0500
TZOFFSETTO:-0400
TZNAME:EDT
DTSTART:20210314T070000
END:DAYLIGHT
BEGIN:STANDARD
TZOFFSETFROM:-0400
TZOFFSETTO:-0500
TZNAME:EST
DTSTART:20211107T060000
END:STANDARD
BEGIN:DAYLIGHT
TZOFFSETFROM:-0500
TZOFFSETTO:-0400
TZNAME:EDT
DTSTART:20220313T070000
END:DAYLIGHT
BEGIN:STANDARD
TZOFFSETFROM:-0400
TZOFFSETTO:-0500
TZNAME:EST
DTSTART:20221106T060000
END:STANDARD
END:VTIMEZONE
BEGIN:VEVENT
DTSTART;VALUE=DATE:20210901
DTEND;VALUE=DATE:20210904
DTSTAMP:20260423T061949
CREATED:20210518T145523Z
LAST-MODIFIED:20210518T145523Z
UID:96813-1630454400-1630713599@canpaint.com
SUMMARY:Asia Pacific Coatings Show 2020
DESCRIPTION:
URL:https://canpaint.com/event/asia-pacific-coatings-show-2020/
LOCATION:ON
CATEGORIES:Conference
END:VEVENT
BEGIN:VEVENT
DTSTART;VALUE=DATE:20210927
DTEND;VALUE=DATE:20210930
DTSTAMP:20260423T061949
CREATED:20210518T160753Z
LAST-MODIFIED:20210518T160753Z
UID:96818-1632700800-1632959999@canpaint.com
SUMMARY:Middle East Coatings Show 2021
DESCRIPTION:
URL:https://canpaint.com/event/middle-east-coatings-show-2021/
LOCATION:ON
CATEGORIES:Conference
END:VEVENT
BEGIN:VEVENT
DTSTART;VALUE=DATE:20210929
DTEND;VALUE=DATE:20211002
DTSTAMP:20260423T061949
CREATED:20210907T135503Z
LAST-MODIFIED:20210907T135503Z
UID:110118-1632873600-1633132799@canpaint.com
SUMMARY:Through the Looking Glass A Circular Economy Conference
DESCRIPTION:
URL:https://canpaint.com/event/through-the-looking-glass-a-circular-economy-conference/
LOCATION:ON
CATEGORIES:Conference
END:VEVENT
END:VCALENDAR